BEGIN:VCALENDAR
PRODID:Nexudus
VERSION:2.0
BEGIN:VTIMEZONE
TZID:America/Los_Angeles
X-LIC-LOCATION:America/Los_Angeles
BEGIN:STANDARD
DTSTART:20241103T020000
RRULE:FREQ=YEARLY;BYDAY=1SU;BYMONTH=11
TZNAME:PST
TZOFFSETFROM:-0700
TZOFFSETTO:-0800
END:STANDARD
BEGIN:DAYLIGHT
DTSTART:20250309T020000
RRULE:FREQ=YEARLY;BYDAY=2SU;BYMONTH=3
TZNAME:PDT
TZOFFSETFROM:-0800
TZOFFSETTO:-0700
END:DAYLIGHT
END:VTIMEZONE
BEGIN:VEVENT
DESCRIPTION:\nEvent link: https://thehivery.spaces.nexudus.com/en/events/vi
 ew/833588760/plan-your-next-90-days--q2--with-megan-flatt\n
DTEND;TZID=America/Los_Angeles:20190305T123000
DTSTAMP:20260422T053510Z
DTSTART;TZID=America/Los_Angeles:20190305T093000
LOCATION:The Hivery
SEQUENCE:0
SUMMARY:Plan Your Next 90 Days (Q2) with Megan Flatt 
UID:d8692cf3-ab91-4fb3-af18-b9c323e1a025
END:VEVENT
END:VCALENDAR
