BEGIN:VCALENDAR
PRODID:Nexudus
VERSION:2.0
BEGIN:VTIMEZONE
TZID:America/Los_Angeles
X-LIC-LOCATION:America/Los_Angeles
BEGIN:STANDARD
DTSTART:20241103T020000
RRULE:FREQ=YEARLY;BYDAY=1SU;BYMONTH=11
TZNAME:PST
TZOFFSETFROM:-0700
TZOFFSETTO:-0800
END:STANDARD
BEGIN:DAYLIGHT
DTSTART:20250309T020000
RRULE:FREQ=YEARLY;BYDAY=2SU;BYMONTH=3
TZNAME:PDT
TZOFFSETFROM:-0800
TZOFFSETTO:-0700
END:DAYLIGHT
END:VTIMEZONE
BEGIN:VEVENT
DESCRIPTION:\nEvent link: https://thehivery.spaces.nexudus.com/en/events/vi
 ew/830163377/entrepreneur-s-circle--how-to-elevate-your-brand-through-indi
 e-publishing-with-girl-friday-productions\n
DTEND;TZID=America/Los_Angeles:20190221T134500
DTSTAMP:20260422T053409Z
DTSTART;TZID=America/Los_Angeles:20190221T123000
LOCATION:The Hivery
SEQUENCE:0
SUMMARY:Entrepreneur's Circle: How To Elevate Your Brand Through Indie Publ
 ishing with Girl Friday Productions 
UID:d49f528f-3df7-4300-8aed-49a84f07a414
END:VEVENT
END:VCALENDAR
