BEGIN:VCALENDAR
PRODID:Nexudus
VERSION:2.0
BEGIN:VTIMEZONE
TZID:America/Los_Angeles
X-LIC-LOCATION:America/Los_Angeles
BEGIN:STANDARD
DTSTART:20241103T020000
RRULE:FREQ=YEARLY;BYDAY=1SU;BYMONTH=11
TZNAME:PST
TZOFFSETFROM:-0700
TZOFFSETTO:-0800
END:STANDARD
BEGIN:DAYLIGHT
DTSTART:20250309T020000
RRULE:FREQ=YEARLY;BYDAY=2SU;BYMONTH=3
TZNAME:PDT
TZOFFSETFROM:-0800
TZOFFSETTO:-0700
END:DAYLIGHT
END:VTIMEZONE
BEGIN:VEVENT
DESCRIPTION:\nEvent link: https://thehivery.spaces.nexudus.com/en/events/vi
 ew/763849196/entrepreneur-s-circle--stand-out-on-linkedin---your-resume-wi
 th-bronia-hill\n
DTEND;TZID=America/Los_Angeles:20181220T134500
DTSTAMP:20260422T081257Z
DTSTART;TZID=America/Los_Angeles:20181220T123000
LOCATION:The Hivery
SEQUENCE:0
SUMMARY:Entrepreneur's Circle: Stand Out on Linkedin + Your Resume with Bro
 nia Hill
UID:b028a460-a07d-46a4-a429-09ac3aaffdf4
END:VEVENT
END:VCALENDAR
