BEGIN:VCALENDAR
PRODID:Nexudus
VERSION:2.0
BEGIN:VTIMEZONE
TZID:America/Los_Angeles
X-LIC-LOCATION:America/Los_Angeles
BEGIN:STANDARD
DTSTART:20241103T020000
RRULE:FREQ=YEARLY;BYDAY=1SU;BYMONTH=11
TZNAME:PST
TZOFFSETFROM:-0700
TZOFFSETTO:-0800
END:STANDARD
BEGIN:DAYLIGHT
DTSTART:20250309T020000
RRULE:FREQ=YEARLY;BYDAY=2SU;BYMONTH=3
TZNAME:PDT
TZOFFSETFROM:-0800
TZOFFSETTO:-0700
END:DAYLIGHT
END:VTIMEZONE
BEGIN:VEVENT
DESCRIPTION:\nEvent link: https://thehivery.spaces.nexudus.com/en/events/vi
 ew/692419884/design--elevate--cultivate-with-serena---lily\n
DTEND;TZID=America/Los_Angeles:20180908T160000
DTSTAMP:20260422T140214Z
DTSTART;TZID=America/Los_Angeles:20180908T140000
LOCATION:SAN FRANCISCO DESIGN SHOP 
SEQUENCE:0
SUMMARY:Design\, Elevate\, Cultivate with Serena & Lily
UID:6e1257c8-6253-4791-bcc3-65f5e5e9d58e
END:VEVENT
END:VCALENDAR
