BEGIN:VCALENDAR
PRODID:Nexudus
VERSION:2.0
BEGIN:VTIMEZONE
TZID:America/Los_Angeles
X-LIC-LOCATION:America/Los_Angeles
BEGIN:STANDARD
DTSTART:20241103T020000
RRULE:FREQ=YEARLY;BYDAY=1SU;BYMONTH=11
TZNAME:PST
TZOFFSETFROM:-0700
TZOFFSETTO:-0800
END:STANDARD
BEGIN:DAYLIGHT
DTSTART:20250309T020000
RRULE:FREQ=YEARLY;BYDAY=2SU;BYMONTH=3
TZNAME:PDT
TZOFFSETFROM:-0800
TZOFFSETTO:-0700
END:DAYLIGHT
END:VTIMEZONE
BEGIN:VEVENT
DESCRIPTION:\nEvent link: https://thehivery.spaces.nexudus.com/en/events/vi
 ew/653462819/inspiration-circle--start-now--use-what-you-have-with-humanit
 arian--maggie-doyne\n
DTEND;TZID=America/Los_Angeles:20180823T134500
DTSTAMP:20260422T140007Z
DTSTART;TZID=America/Los_Angeles:20180823T123000
LOCATION:The Hivery
SEQUENCE:0
SUMMARY:Inspiration Circle: Start Now\, Use What You Have with Humanitarian
 \, Maggie Doyne
UID:fc5df9b7-7c29-44e0-bc5d-e75f418b9285
END:VEVENT
END:VCALENDAR
