BEGIN:VCALENDAR
PRODID:Nexudus
VERSION:2.0
BEGIN:VTIMEZONE
TZID:America/Los_Angeles
X-LIC-LOCATION:America/Los_Angeles
BEGIN:STANDARD
DTSTART:20241103T020000
RRULE:FREQ=YEARLY;BYDAY=1SU;BYMONTH=11
TZNAME:PST
TZOFFSETFROM:-0700
TZOFFSETTO:-0800
END:STANDARD
BEGIN:DAYLIGHT
DTSTART:20250309T020000
RRULE:FREQ=YEARLY;BYDAY=2SU;BYMONTH=3
TZNAME:PDT
TZOFFSETFROM:-0800
TZOFFSETTO:-0700
END:DAYLIGHT
END:VTIMEZONE
BEGIN:VEVENT
DESCRIPTION:\nEvent link: https://thehivery.spaces.nexudus.com/en/events/vi
 ew/641422864/creativity-circle--writing-for-keeps-with-jenni-heffernan-bro
 wn\n
DTEND;TZID=America/Los_Angeles:20180802T134500
DTSTAMP:20260422T153708Z
DTSTART;TZID=America/Los_Angeles:20180802T123000
LOCATION:The Hivery
SEQUENCE:0
SUMMARY:Creativity Circle: Writing for Keeps with Jenni Heffernan Brown
UID:42d4fcfb-591b-4bba-af1f-a7ed83d33892
END:VEVENT
END:VCALENDAR
