BEGIN:VCALENDAR
PRODID:Nexudus
VERSION:2.0
BEGIN:VTIMEZONE
TZID:America/Los_Angeles
X-LIC-LOCATION:America/Los_Angeles
BEGIN:STANDARD
DTSTART:20241103T020000
RRULE:FREQ=YEARLY;BYDAY=1SU;BYMONTH=11
TZNAME:PST
TZOFFSETFROM:-0700
TZOFFSETTO:-0800
END:STANDARD
BEGIN:DAYLIGHT
DTSTART:20250309T020000
RRULE:FREQ=YEARLY;BYDAY=2SU;BYMONTH=3
TZNAME:PDT
TZOFFSETFROM:-0800
TZOFFSETTO:-0700
END:DAYLIGHT
END:VTIMEZONE
BEGIN:VEVENT
DESCRIPTION:\nEvent link: https://thehivery.spaces.nexudus.com/en/events/vi
 ew/579752348/first-tuesday-artwalk---the-hive-series--by-delisa-sage\n
DTEND;TZID=America/Los_Angeles:20180403T193000
DTSTAMP:20260422T211451Z
DTSTART;TZID=America/Los_Angeles:20180403T180000
LOCATION:The Hivery
SEQUENCE:0
SUMMARY:First Tuesday ArtWalk: “The Hive Series” by Delisa Sage
UID:b9fec01a-f8be-4933-8989-f8822587801f
END:VEVENT
END:VCALENDAR
