BEGIN:VCALENDAR
PRODID:Nexudus
VERSION:2.0
BEGIN:VTIMEZONE
TZID:America/Los_Angeles
X-LIC-LOCATION:America/Los_Angeles
BEGIN:STANDARD
DTSTART:20241103T020000
RRULE:FREQ=YEARLY;BYDAY=1SU;BYMONTH=11
TZNAME:PST
TZOFFSETFROM:-0700
TZOFFSETTO:-0800
END:STANDARD
BEGIN:DAYLIGHT
DTSTART:20250309T020000
RRULE:FREQ=YEARLY;BYDAY=2SU;BYMONTH=3
TZNAME:PDT
TZOFFSETFROM:-0800
TZOFFSETTO:-0700
END:DAYLIGHT
END:VTIMEZONE
BEGIN:VEVENT
DESCRIPTION:\nEvent link: https://thehivery.spaces.nexudus.com/en/events/vi
 ew/568731163/member-spotlight--everyday-sexy--what-is-feminine-power-and-w
 hat-can-i-do-with-it--with-faith-carria\n
DTEND;TZID=America/Los_Angeles:20180420T134500
DTSTAMP:20260422T211451Z
DTSTART;TZID=America/Los_Angeles:20180420T123000
LOCATION:The Hivery
SEQUENCE:0
SUMMARY:Member Spotlight: Everyday Sexy: What is Feminine Power and What Ca
 n I Do With It? with Faith Carria 
UID:b29c1bd8-2626-4d41-b73b-ac6a570640df
END:VEVENT
END:VCALENDAR
