BEGIN:VCALENDAR
PRODID:Nexudus
VERSION:2.0
BEGIN:VTIMEZONE
TZID:America/Los_Angeles
X-LIC-LOCATION:America/Los_Angeles
BEGIN:STANDARD
DTSTART:20241103T020000
RRULE:FREQ=YEARLY;BYDAY=1SU;BYMONTH=11
TZNAME:PST
TZOFFSETFROM:-0700
TZOFFSETTO:-0800
END:STANDARD
BEGIN:DAYLIGHT
DTSTART:20250309T020000
RRULE:FREQ=YEARLY;BYDAY=2SU;BYMONTH=3
TZNAME:PDT
TZOFFSETFROM:-0800
TZOFFSETTO:-0700
END:DAYLIGHT
END:VTIMEZONE
BEGIN:VEVENT
DESCRIPTION:\nEvent link: https://thehivery.spaces.nexudus.com/en/events/vi
 ew/550540119/wellness-wednesday--realign---reconnect--a-30-minute-sacred-p
 ause\n
DTEND;TZID=America/Los_Angeles:20180321T130000
DTSTAMP:20260422T224608Z
DTSTART;TZID=America/Los_Angeles:20180321T123000
LOCATION:The Hivery
SEQUENCE:0
SUMMARY:Wellness Wednesday: Realign & Reconnect: A 30-Minute Sacred Pause
UID:626364c7-e3af-4b94-8376-60f470f521ee
END:VEVENT
END:VCALENDAR
