BEGIN:VCALENDAR
PRODID:Nexudus
VERSION:2.0
BEGIN:VTIMEZONE
TZID:America/Los_Angeles
X-LIC-LOCATION:America/Los_Angeles
BEGIN:STANDARD
DTSTART:20241103T020000
RRULE:FREQ=YEARLY;BYDAY=1SU;BYMONTH=11
TZNAME:PST
TZOFFSETFROM:-0700
TZOFFSETTO:-0800
END:STANDARD
BEGIN:DAYLIGHT
DTSTART:20250309T020000
RRULE:FREQ=YEARLY;BYDAY=2SU;BYMONTH=3
TZNAME:PDT
TZOFFSETFROM:-0800
TZOFFSETTO:-0700
END:DAYLIGHT
END:VTIMEZONE
BEGIN:VEVENT
DESCRIPTION:\nEvent link: https://thehivery.spaces.nexudus.com/en/events/vi
 ew/532684200/member-spotlight--creating-threads-of-authenticity-with-silvi
 a-schroeder\n
DTEND;TZID=America/Los_Angeles:20180216T134500
DTSTAMP:20260423T015059Z
DTSTART;TZID=America/Los_Angeles:20180216T123000
LOCATION:The Hivery
SEQUENCE:0
SUMMARY:Member Spotlight: Creating Threads of Authenticity with Silvia Schr
 oeder
UID:1a708a60-62c4-46a8-bf42-6c60a93cd983
END:VEVENT
END:VCALENDAR
