BEGIN:VCALENDAR
PRODID:Nexudus
VERSION:2.0
BEGIN:VTIMEZONE
TZID:America/Los_Angeles
X-LIC-LOCATION:America/Los_Angeles
BEGIN:STANDARD
DTSTART:20241103T020000
RRULE:FREQ=YEARLY;BYDAY=1SU;BYMONTH=11
TZNAME:PST
TZOFFSETFROM:-0700
TZOFFSETTO:-0800
END:STANDARD
BEGIN:DAYLIGHT
DTSTART:20250309T020000
RRULE:FREQ=YEARLY;BYDAY=2SU;BYMONTH=3
TZNAME:PDT
TZOFFSETFROM:-0800
TZOFFSETTO:-0700
END:DAYLIGHT
END:VTIMEZONE
BEGIN:VEVENT
DESCRIPTION:\nEvent link: https://thehivery.spaces.nexudus.com/en/events/vi
 ew/494400928/wellness-wednesday--reflection-and-renewal---a-meditation-and
 -sacred-ritual-to-honor-2017\n
DTEND;TZID=America/Los_Angeles:20171220T130000
DTSTAMP:20260423T045418Z
DTSTART;TZID=America/Los_Angeles:20171220T123000
LOCATION:The Hivery
SEQUENCE:0
SUMMARY:Wellness Wednesday: Reflection and Renewal - A Meditation and Sacre
 d Ritual to Honor 2017
UID:b8a0e7d5-bf53-47e5-98ba-13af7d362971
END:VEVENT
END:VCALENDAR
