BEGIN:VCALENDAR
PRODID:Nexudus
VERSION:2.0
BEGIN:VTIMEZONE
TZID:America/Los_Angeles
X-LIC-LOCATION:America/Los_Angeles
BEGIN:STANDARD
DTSTART:20241103T020000
RRULE:FREQ=YEARLY;BYDAY=1SU;BYMONTH=11
TZNAME:PST
TZOFFSETFROM:-0700
TZOFFSETTO:-0800
END:STANDARD
BEGIN:DAYLIGHT
DTSTART:20250309T020000
RRULE:FREQ=YEARLY;BYDAY=2SU;BYMONTH=3
TZNAME:PDT
TZOFFSETFROM:-0800
TZOFFSETTO:-0700
END:DAYLIGHT
END:VTIMEZONE
BEGIN:VEVENT
DESCRIPTION:\nEvent link: https://thehivery.spaces.nexudus.com/en/events/vi
 ew/493080595/bring-a-friend-friday\n
DTEND;TZID=America/Los_Angeles:20171208T180000
DTSTAMP:20260423T060041Z
DTSTART;TZID=America/Los_Angeles:20171208T083000
LOCATION:The Hivery
SEQUENCE:0
SUMMARY:Bring-A-Friend-Friday
UID:3bf452ee-eb78-4b53-b40b-e91bf326c16f
END:VEVENT
END:VCALENDAR
