BEGIN:VCALENDAR
PRODID:Nexudus
VERSION:2.0
BEGIN:VTIMEZONE
TZID:America/Los_Angeles
X-LIC-LOCATION:America/Los_Angeles
BEGIN:STANDARD
DTSTART:20241103T020000
RRULE:FREQ=YEARLY;BYDAY=1SU;BYMONTH=11
TZNAME:PST
TZOFFSETFROM:-0700
TZOFFSETTO:-0800
END:STANDARD
BEGIN:DAYLIGHT
DTSTART:20250309T020000
RRULE:FREQ=YEARLY;BYDAY=2SU;BYMONTH=3
TZNAME:PDT
TZOFFSETFROM:-0800
TZOFFSETTO:-0700
END:DAYLIGHT
END:VTIMEZONE
BEGIN:VEVENT
DESCRIPTION:\nEvent link: https://thehivery.spaces.nexudus.com/en/events/vi
 ew/466556103/member-spotlight--tarot-with-johanna-beyer-and-ariane-tréla
 ün\n
DTEND;TZID=America/Los_Angeles:20171103T134500
DTSTAMP:20260423T072829Z
DTSTART;TZID=America/Los_Angeles:20171103T123000
LOCATION:The Hivery
SEQUENCE:0
SUMMARY: Member Spotlight: Tarot with Johanna Beyer and Ariane Trélaün
UID:5c8b720b-c4c4-4fe8-87e5-aa452347260a
END:VEVENT
END:VCALENDAR
