BEGIN:VCALENDAR
PRODID:Nexudus
VERSION:2.0
BEGIN:VTIMEZONE
TZID:America/Los_Angeles
X-LIC-LOCATION:America/Los_Angeles
BEGIN:STANDARD
DTSTART:20241103T020000
RRULE:FREQ=YEARLY;BYDAY=1SU;BYMONTH=11
TZNAME:PST
TZOFFSETFROM:-0700
TZOFFSETTO:-0800
END:STANDARD
BEGIN:DAYLIGHT
DTSTART:20250309T020000
RRULE:FREQ=YEARLY;BYDAY=2SU;BYMONTH=3
TZNAME:PDT
TZOFFSETFROM:-0800
TZOFFSETTO:-0700
END:DAYLIGHT
END:VTIMEZONE
BEGIN:VEVENT
DESCRIPTION:\nEvent link: https://thehivery.spaces.nexudus.com/en/events/vi
 ew/444111755/well-nourished--mindful-practices-for-heart--body-and-mind-fe
 aturing-andrea-lieberstein\n
DTEND;TZID=America/Los_Angeles:20171018T134500
DTSTAMP:20260423T095239Z
DTSTART;TZID=America/Los_Angeles:20171018T123000
LOCATION:The Hivery
SEQUENCE:0
SUMMARY: Well Nourished: Mindful Practices for Heart\, Body and Mind Featur
 ing Andrea Lieberstein
UID:933f41f8-93bf-409b-97ca-955bc97cb30d
END:VEVENT
END:VCALENDAR
