BEGIN:VCALENDAR
PRODID:Nexudus
VERSION:2.0
BEGIN:VTIMEZONE
TZID:America/Los_Angeles
X-LIC-LOCATION:America/Los_Angeles
BEGIN:STANDARD
DTSTART:20241103T020000
RRULE:FREQ=YEARLY;BYDAY=1SU;BYMONTH=11
TZNAME:PST
TZOFFSETFROM:-0700
TZOFFSETTO:-0800
END:STANDARD
BEGIN:DAYLIGHT
DTSTART:20250309T020000
RRULE:FREQ=YEARLY;BYDAY=2SU;BYMONTH=3
TZNAME:PDT
TZOFFSETFROM:-0800
TZOFFSETTO:-0700
END:DAYLIGHT
END:VTIMEZONE
BEGIN:VEVENT
DESCRIPTION:\nEvent link: https://thehivery.spaces.nexudus.com/en/events/vi
 ew/1276646456/getting-legally-legit--protect-and-grow-your-business-and-br
 and-with-kristen-herwitz-and-ruky-tijani\n
DTEND;TZID=America/Los_Angeles:20200416T134500
DTSTAMP:20260421T165415Z
DTSTART;TZID=America/Los_Angeles:20200416T123000
LOCATION:The Hivery Mill Valley
SEQUENCE:0
SUMMARY:Getting Legally Legit: Protect and Grow Your Business and Brand wit
 h Kristen Herwitz and Ruky Tijani
UID:c1b1da88-ff84-4013-b723-0a62884273b4
END:VEVENT
END:VCALENDAR
