BEGIN:VCALENDAR
PRODID:Nexudus
VERSION:2.0
BEGIN:VTIMEZONE
TZID:America/Los_Angeles
X-LIC-LOCATION:America/Los_Angeles
BEGIN:STANDARD
DTSTART:20241103T020000
RRULE:FREQ=YEARLY;BYDAY=1SU;BYMONTH=11
TZNAME:PST
TZOFFSETFROM:-0700
TZOFFSETTO:-0800
END:STANDARD
BEGIN:DAYLIGHT
DTSTART:20250309T020000
RRULE:FREQ=YEARLY;BYDAY=2SU;BYMONTH=3
TZNAME:PDT
TZOFFSETFROM:-0800
TZOFFSETTO:-0700
END:DAYLIGHT
END:VTIMEZONE
BEGIN:VEVENT
DESCRIPTION:\nEvent link: https://thehivery.spaces.nexudus.com/en/events/vi
 ew/1169837671/writer-s-circle--a-time-to-write\n
DTEND;TZID=America/Los_Angeles:20191114T104500
DTSTAMP:20260421T181916Z
DTSTART;TZID=America/Los_Angeles:20191114T093000
LOCATION:The Hivery Mill Valley
SEQUENCE:0
SUMMARY:Writer's Circle: A Time to Write
UID:dcd73922-63ab-475e-bb27-4bff1c042bf1
END:VEVENT
END:VCALENDAR
