BEGIN:VCALENDAR
PRODID:Nexudus
VERSION:2.0
BEGIN:VTIMEZONE
TZID:America/Los_Angeles
X-LIC-LOCATION:America/Los_Angeles
BEGIN:STANDARD
DTSTART:20241103T020000
RRULE:FREQ=YEARLY;BYDAY=1SU;BYMONTH=11
TZNAME:PST
TZOFFSETFROM:-0700
TZOFFSETTO:-0800
END:STANDARD
BEGIN:DAYLIGHT
DTSTART:20250309T020000
RRULE:FREQ=YEARLY;BYDAY=2SU;BYMONTH=3
TZNAME:PDT
TZOFFSETFROM:-0800
TZOFFSETTO:-0700
END:DAYLIGHT
END:VTIMEZONE
BEGIN:VEVENT
DESCRIPTION:\nEvent link: https://thehivery.spaces.nexudus.com/en/events/vi
 ew/1111686580/the-hivery-incubator-fall-session--a-3-month-program-led-by-
 grace-kraaijvanger\n
DTEND;TZID=America/Los_Angeles:20190913T120000
DTSTAMP:20260421T212605Z
DTSTART;TZID=America/Los_Angeles:20190913T093000
LOCATION:The Hivery
SEQUENCE:0
SUMMARY:The Hivery Incubator Fall Session: A 3-Month Program Led by Grace K
 raaijvanger
UID:b919adcb-3f1b-40e4-b276-9288c9367471
END:VEVENT
END:VCALENDAR
