BEGIN:VCALENDAR
PRODID:Nexudus
VERSION:2.0
BEGIN:VTIMEZONE
TZID:America/Los_Angeles
X-LIC-LOCATION:America/Los_Angeles
BEGIN:STANDARD
DTSTART:20241103T020000
RRULE:FREQ=YEARLY;BYDAY=1SU;BYMONTH=11
TZNAME:PST
TZOFFSETFROM:-0700
TZOFFSETTO:-0800
END:STANDARD
BEGIN:DAYLIGHT
DTSTART:20250309T020000
RRULE:FREQ=YEARLY;BYDAY=2SU;BYMONTH=3
TZNAME:PDT
TZOFFSETFROM:-0800
TZOFFSETTO:-0700
END:DAYLIGHT
END:VTIMEZONE
BEGIN:VEVENT
DESCRIPTION:\nEvent link: https://thehivery.spaces.nexudus.com/en/events/vi
 ew/981050150/writer-s-circle-with-devi-s--laskar\n
DTEND;TZID=America/Los_Angeles:20190509T134500
DTSTAMP:20260422T021956Z
DTSTART;TZID=America/Los_Angeles:20190509T123000
LOCATION:The Hivery
SEQUENCE:0
SUMMARY:Writer's Circle with Devi S. Laskar
UID:7859cf11-902f-4b63-bb06-52856548b446
END:VEVENT
END:VCALENDAR
