BEGIN:VCALENDAR
PRODID:Nexudus
VERSION:2.0
BEGIN:VTIMEZONE
TZID:America/Los_Angeles
X-LIC-LOCATION:America/Los_Angeles
BEGIN:STANDARD
DTSTART:20241103T020000
RRULE:FREQ=YEARLY;BYDAY=1SU;BYMONTH=11
TZNAME:PST
TZOFFSETFROM:-0700
TZOFFSETTO:-0800
END:STANDARD
BEGIN:DAYLIGHT
DTSTART:20250309T020000
RRULE:FREQ=YEARLY;BYDAY=2SU;BYMONTH=3
TZNAME:PDT
TZOFFSETFROM:-0800
TZOFFSETTO:-0700
END:DAYLIGHT
END:VTIMEZONE
BEGIN:VEVENT
DESCRIPTION:Join The Hivery's 'Plan Your Next 90 Days' course leader and bu
 siness strategist Megan Flatt for a free information session to learn more
  about the upcoming workshop on Tuesday March 5th. Not only will you get t
 o learn more\, get all of your questions answered BUT you will also get to
  do a hands-on Post-it project planning session in this jam-packed lunch-t
 ime hour! \nEvent link: https://thehivery.spaces.nexudus.com/en/events/vie
 w/833588756/the-hivery-s-post-it-planning-party-with-megan-flatt\n
DTEND;TZID=America/Los_Angeles:20190212T133000
DTSTAMP:20260422T070014Z
DTSTART;TZID=America/Los_Angeles:20190212T123000
LOCATION:The Hivery
SEQUENCE:0
SUMMARY: The Hivery's Post-it Planning Party with Megan Flatt
UID:b8a7dff9-6375-4041-82e5-15bece808bdf
END:VEVENT
END:VCALENDAR
