BEGIN:VCALENDAR
PRODID:Nexudus
VERSION:2.0
BEGIN:VTIMEZONE
TZID:America/Los_Angeles
X-LIC-LOCATION:America/Los_Angeles
BEGIN:STANDARD
DTSTART:20241103T020000
RRULE:FREQ=YEARLY;BYDAY=1SU;BYMONTH=11
TZNAME:PST
TZOFFSETFROM:-0700
TZOFFSETTO:-0800
END:STANDARD
BEGIN:DAYLIGHT
DTSTART:20250309T020000
RRULE:FREQ=YEARLY;BYDAY=2SU;BYMONTH=3
TZNAME:PDT
TZOFFSETFROM:-0800
TZOFFSETTO:-0700
END:DAYLIGHT
END:VTIMEZONE
BEGIN:VEVENT
DESCRIPTION:\nEvent link: https://thehivery.spaces.nexudus.com/en/events/vi
 ew/785088310/entrepreneur-s-circle--fireside-chat-with-selina-tobaccowala-
 --grace-kraaijvanger\n
DTEND;TZID=America/Los_Angeles:20190117T134500
DTSTAMP:20260422T070127Z
DTSTART;TZID=America/Los_Angeles:20190117T123000
LOCATION:The Hivery
SEQUENCE:0
SUMMARY:Entrepreneur's Circle: Fireside Chat with Selina Tobaccowala + Grac
 e Kraaijvanger
UID:3f3e0983-8d59-4c28-acee-be395ecc8948
END:VEVENT
END:VCALENDAR
