BEGIN:VCALENDAR
PRODID:Nexudus
VERSION:2.0
BEGIN:VTIMEZONE
TZID:America/Los_Angeles
X-LIC-LOCATION:America/Los_Angeles
BEGIN:STANDARD
DTSTART:20241103T020000
RRULE:FREQ=YEARLY;BYDAY=1SU;BYMONTH=11
TZNAME:PST
TZOFFSETFROM:-0700
TZOFFSETTO:-0800
END:STANDARD
BEGIN:DAYLIGHT
DTSTART:20250309T020000
RRULE:FREQ=YEARLY;BYDAY=2SU;BYMONTH=3
TZNAME:PDT
TZOFFSETFROM:-0800
TZOFFSETTO:-0700
END:DAYLIGHT
END:VTIMEZONE
BEGIN:VEVENT
DESCRIPTION:\nEvent link: https://thehivery.spaces.nexudus.com/en/events/vi
 ew/728881161/creativity-circle--calligraphy-101-with-stephanie-mckenna---b
 owerbird-atelier\n
DTEND;TZID=America/Los_Angeles:20181101T134500
DTSTAMP:20260424T123853Z
DTSTART;TZID=America/Los_Angeles:20181101T123000
LOCATION:The Hivery
SEQUENCE:0
SUMMARY:Creativity Circle: Calligraphy 101 with Stephanie McKenna @ Bowerbi
 rd Atelier
UID:2002fb39-24a4-4cf7-8acd-00ecc8324518
END:VEVENT
END:VCALENDAR
