BEGIN:VCALENDAR
PRODID:Nexudus
VERSION:2.0
BEGIN:VTIMEZONE
TZID:America/Los_Angeles
X-LIC-LOCATION:America/Los_Angeles
BEGIN:STANDARD
DTSTART:20241103T020000
RRULE:FREQ=YEARLY;BYDAY=1SU;BYMONTH=11
TZNAME:PST
TZOFFSETFROM:-0700
TZOFFSETTO:-0800
END:STANDARD
BEGIN:DAYLIGHT
DTSTART:20250309T020000
RRULE:FREQ=YEARLY;BYDAY=2SU;BYMONTH=3
TZNAME:PDT
TZOFFSETFROM:-0800
TZOFFSETTO:-0700
END:DAYLIGHT
END:VTIMEZONE
BEGIN:VEVENT
DESCRIPTION:\nEvent link: https://thehivery.spaces.nexudus.com/en/events/vi
 ew/641422869/hivery-circle--breaking-up-with-busy---go-from-busy-to-vibran
 t-with-author-yvonne-tally\n
DTEND;TZID=America/Los_Angeles:20180814T210000
DTSTAMP:20260422T153619Z
DTSTART;TZID=America/Los_Angeles:20180814T190000
LOCATION:The Hivery
SEQUENCE:0
SUMMARY:Hivery Circle: Breaking Up With Busy - Go From Busy to Vibrant with
  Author Yvonne Tally 
UID:9034f64c-8003-416c-b37f-2a5e16d8823e
END:VEVENT
END:VCALENDAR
