BEGIN:VCALENDAR
PRODID:Nexudus
VERSION:2.0
BEGIN:VTIMEZONE
TZID:America/Los_Angeles
X-LIC-LOCATION:America/Los_Angeles
BEGIN:STANDARD
DTSTART:20241103T020000
RRULE:FREQ=YEARLY;BYDAY=1SU;BYMONTH=11
TZNAME:PST
TZOFFSETFROM:-0700
TZOFFSETTO:-0800
END:STANDARD
BEGIN:DAYLIGHT
DTSTART:20250309T020000
RRULE:FREQ=YEARLY;BYDAY=2SU;BYMONTH=3
TZNAME:PDT
TZOFFSETFROM:-0800
TZOFFSETTO:-0700
END:DAYLIGHT
END:VTIMEZONE
BEGIN:VEVENT
DESCRIPTION:\nEvent link: https://thehivery.spaces.nexudus.com/en/events/vi
 ew/576564997/set-up-for-success-with-megan-flatt--your-next-big-idea\n
DTEND;TZID=America/Los_Angeles:20180416T120000
DTSTAMP:20260422T211354Z
DTSTART;TZID=America/Los_Angeles:20180416T090000
LOCATION:The Hivery
SEQUENCE:0
SUMMARY:Set Up For Success with Megan Flatt: Your Next Big Idea
UID:d48fbaa8-1028-4d80-a85a-c6dcd0ba0f5e
END:VEVENT
END:VCALENDAR
