BEGIN:VCALENDAR
PRODID:Nexudus
VERSION:2.0
BEGIN:VTIMEZONE
TZID:America/Los_Angeles
X-LIC-LOCATION:America/Los_Angeles
BEGIN:STANDARD
DTSTART:20241103T020000
RRULE:FREQ=YEARLY;BYDAY=1SU;BYMONTH=11
TZNAME:PST
TZOFFSETFROM:-0700
TZOFFSETTO:-0800
END:STANDARD
BEGIN:DAYLIGHT
DTSTART:20250309T020000
RRULE:FREQ=YEARLY;BYDAY=2SU;BYMONTH=3
TZNAME:PDT
TZOFFSETFROM:-0800
TZOFFSETTO:-0700
END:DAYLIGHT
END:VTIMEZONE
BEGIN:VEVENT
DESCRIPTION:\nEvent link: https://thehivery.spaces.nexudus.com/en/events/vi
 ew/550540126/hivery-swarm--babes-who-brand\n
DTEND;TZID=America/Los_Angeles:20180402T174500
DTSTAMP:20260422T224435Z
DTSTART;TZID=America/Los_Angeles:20180402T160000
LOCATION:The Hivery
SEQUENCE:0
SUMMARY:Hivery Swarm: Babes who Brand 
UID:7d2248c0-b5ca-4dc1-b609-b5425054b3f9
END:VEVENT
END:VCALENDAR
