BEGIN:VCALENDAR
PRODID:Nexudus
VERSION:2.0
BEGIN:VTIMEZONE
TZID:America/Los_Angeles
X-LIC-LOCATION:America/Los_Angeles
BEGIN:STANDARD
DTSTART:20241103T020000
RRULE:FREQ=YEARLY;BYDAY=1SU;BYMONTH=11
TZNAME:PST
TZOFFSETFROM:-0700
TZOFFSETTO:-0800
END:STANDARD
BEGIN:DAYLIGHT
DTSTART:20250309T020000
RRULE:FREQ=YEARLY;BYDAY=2SU;BYMONTH=3
TZNAME:PDT
TZOFFSETFROM:-0800
TZOFFSETTO:-0700
END:DAYLIGHT
END:VTIMEZONE
BEGIN:VEVENT
DESCRIPTION:\nEvent link: https://thehivery.spaces.nexudus.com/en/events/vi
 ew/550540120/wellness-wednesday--meditation---gentle-stretching\n
DTEND;TZID=America/Los_Angeles:20180314T130000
DTSTAMP:20260422T224511Z
DTSTART;TZID=America/Los_Angeles:20180314T123000
LOCATION:The Hivery
SEQUENCE:0
SUMMARY:Wellness Wednesday: Meditation + Gentle Stretching
UID:1f7c32ef-dda7-4eda-babe-c8679f949f4b
END:VEVENT
END:VCALENDAR
