BEGIN:VCALENDAR
PRODID:Nexudus
VERSION:2.0
BEGIN:VTIMEZONE
TZID:America/Los_Angeles
X-LIC-LOCATION:America/Los_Angeles
BEGIN:STANDARD
DTSTART:20241103T020000
RRULE:FREQ=YEARLY;BYDAY=1SU;BYMONTH=11
TZNAME:PST
TZOFFSETFROM:-0700
TZOFFSETTO:-0800
END:STANDARD
BEGIN:DAYLIGHT
DTSTART:20250309T020000
RRULE:FREQ=YEARLY;BYDAY=2SU;BYMONTH=3
TZNAME:PDT
TZOFFSETFROM:-0800
TZOFFSETTO:-0700
END:DAYLIGHT
END:VTIMEZONE
BEGIN:VEVENT
DESCRIPTION:\nEvent link: https://thehivery.spaces.nexudus.com/en/events/vi
 ew/517081565/what-s-next-information-session\n
DTEND;TZID=America/Los_Angeles:20180109T110000
DTSTAMP:20260423T055253Z
DTSTART;TZID=America/Los_Angeles:20180109T100000
LOCATION:The Hivery
SEQUENCE:0
SUMMARY:What's Next Information Session 
UID:672dc0ad-ac44-434f-a465-1dbce80d054d
END:VEVENT
END:VCALENDAR
