BEGIN:VCALENDAR
PRODID:Nexudus
VERSION:2.0
BEGIN:VTIMEZONE
TZID:America/Los_Angeles
X-LIC-LOCATION:America/Los_Angeles
BEGIN:STANDARD
DTSTART:20241103T020000
RRULE:FREQ=YEARLY;BYDAY=1SU;BYMONTH=11
TZNAME:PST
TZOFFSETFROM:-0700
TZOFFSETTO:-0800
END:STANDARD
BEGIN:DAYLIGHT
DTSTART:20250309T020000
RRULE:FREQ=YEARLY;BYDAY=2SU;BYMONTH=3
TZNAME:PDT
TZOFFSETFROM:-0800
TZOFFSETTO:-0700
END:DAYLIGHT
END:VTIMEZONE
BEGIN:VEVENT
DESCRIPTION:\nEvent link: https://thehivery.spaces.nexudus.com/en/events/vi
 ew/513428931/vision-board-workshop\n
DTEND;TZID=America/Los_Angeles:20180128T150000
DTSTAMP:20260423T032200Z
DTSTART;TZID=America/Los_Angeles:20180128T100000
LOCATION:The Hivery
SEQUENCE:0
SUMMARY:Vision Board Workshop
UID:0a0e0ea5-8fa9-461a-a684-91b9d8aeda48
END:VEVENT
END:VCALENDAR
