BEGIN:VCALENDAR
PRODID:Nexudus
VERSION:2.0
BEGIN:VTIMEZONE
TZID:America/Los_Angeles
X-LIC-LOCATION:America/Los_Angeles
BEGIN:STANDARD
DTSTART:20241103T020000
RRULE:FREQ=YEARLY;BYDAY=1SU;BYMONTH=11
TZNAME:PST
TZOFFSETFROM:-0700
TZOFFSETTO:-0800
END:STANDARD
BEGIN:DAYLIGHT
DTSTART:20250309T020000
RRULE:FREQ=YEARLY;BYDAY=2SU;BYMONTH=3
TZNAME:PDT
TZOFFSETFROM:-0800
TZOFFSETTO:-0700
END:DAYLIGHT
END:VTIMEZONE
BEGIN:VEVENT
DESCRIPTION:\nEvent link: https://thehivery.spaces.nexudus.com/en/events/vi
 ew/480578106/member-spotlight--how-to-de-stress-your-dog-with-canine-acuto
 uch-with-barbara-ahern\n
DTEND;TZID=America/Los_Angeles:20171117T134500
DTSTAMP:20260423T072848Z
DTSTART;TZID=America/Los_Angeles:20171117T123000
LOCATION:The Hivery
SEQUENCE:0
SUMMARY:Member Spotlight: How to De-Stress Your Dog with Canine AcuTouch wi
 th Barbara Ahern
UID:dd07e685-250c-4b65-9ac0-40c7169e9ecc
END:VEVENT
END:VCALENDAR
