BEGIN:VCALENDAR
PRODID:Nexudus
VERSION:2.0
BEGIN:VTIMEZONE
TZID:America/Los_Angeles
X-LIC-LOCATION:America/Los_Angeles
BEGIN:STANDARD
DTSTART:20241103T020000
RRULE:FREQ=YEARLY;BYDAY=1SU;BYMONTH=11
TZNAME:PST
TZOFFSETFROM:-0700
TZOFFSETTO:-0800
END:STANDARD
BEGIN:DAYLIGHT
DTSTART:20250309T020000
RRULE:FREQ=YEARLY;BYDAY=2SU;BYMONTH=3
TZNAME:PDT
TZOFFSETFROM:-0800
TZOFFSETTO:-0700
END:DAYLIGHT
END:VTIMEZONE
BEGIN:VEVENT
DESCRIPTION:\nEvent link: https://thehivery.spaces.nexudus.com/en/events/vi
 ew/457479168/the-san-francisco-dance-film-festival--international-shorts-i
 i--female-filmmakers\n
DTEND;TZID=America/Los_Angeles:20171021T193000
DTSTAMP:20260423T083352Z
DTSTART;TZID=America/Los_Angeles:20171021T180000
LOCATION: Brava Theater Center
SEQUENCE:0
SUMMARY:The San Francisco Dance Film Festival: International Shorts II: Fem
 ale Filmmakers
UID:7d7a9efa-5774-4ac7-a40a-a6c1c1d2ee3c
END:VEVENT
END:VCALENDAR
