BEGIN:VCALENDAR
PRODID:Nexudus
VERSION:2.0
BEGIN:VTIMEZONE
TZID:America/Los_Angeles
X-LIC-LOCATION:America/Los_Angeles
BEGIN:STANDARD
DTSTART:20241103T020000
RRULE:FREQ=YEARLY;BYDAY=1SU;BYMONTH=11
TZNAME:PST
TZOFFSETFROM:-0700
TZOFFSETTO:-0800
END:STANDARD
BEGIN:DAYLIGHT
DTSTART:20250309T020000
RRULE:FREQ=YEARLY;BYDAY=2SU;BYMONTH=3
TZNAME:PDT
TZOFFSETFROM:-0800
TZOFFSETTO:-0700
END:DAYLIGHT
END:VTIMEZONE
BEGIN:VEVENT
DESCRIPTION:\nEvent link: https://thehivery.spaces.nexudus.com/en/events/vi
 ew/1329609341/the-hivery-s-what-s-next--a-4-week-virtual-workshop-with-lin
 da-lesem-and-laura-riordan\n
DTEND;TZID=America/Los_Angeles:20200616T113000
DTSTAMP:20260421T152225Z
DTSTART;TZID=America/Los_Angeles:20200616T093000
LOCATION:The Hivery Virtual
SEQUENCE:0
SUMMARY:The Hivery's What's Next: A 4-Week Virtual Workshop with Linda Lese
 m and Laura Riordan
UID:dc30e983-8cbf-43ab-b8a3-dfa9adcc265a
END:VEVENT
END:VCALENDAR
