BEGIN:VCALENDAR
PRODID:Nexudus
VERSION:2.0
BEGIN:VTIMEZONE
TZID:America/Los_Angeles
X-LIC-LOCATION:America/Los_Angeles
BEGIN:STANDARD
DTSTART:20241103T020000
RRULE:FREQ=YEARLY;BYDAY=1SU;BYMONTH=11
TZNAME:PST
TZOFFSETFROM:-0700
TZOFFSETTO:-0800
END:STANDARD
BEGIN:DAYLIGHT
DTSTART:20250309T020000
RRULE:FREQ=YEARLY;BYDAY=2SU;BYMONTH=3
TZNAME:PDT
TZOFFSETFROM:-0800
TZOFFSETTO:-0700
END:DAYLIGHT
END:VTIMEZONE
BEGIN:VEVENT
DESCRIPTION:\nEvent link: https://thehivery.spaces.nexudus.com/en/events/vi
 ew/1286799515/monthly-member-coffee-mv\n
DTEND;TZID=America/Los_Angeles:20200403T100000
DTSTAMP:20260421T152224Z
DTSTART;TZID=America/Los_Angeles:20200403T090000
LOCATION:The Hivery Mill Valley
SEQUENCE:0
SUMMARY:Monthly Member Coffee MV
UID:21087410-10ff-435a-8214-e7827d81654d
END:VEVENT
END:VCALENDAR
