BEGIN:VCALENDAR
PRODID:Nexudus
VERSION:2.0
BEGIN:VTIMEZONE
TZID:America/Los_Angeles
X-LIC-LOCATION:America/Los_Angeles
BEGIN:STANDARD
DTSTART:20241103T020000
RRULE:FREQ=YEARLY;BYDAY=1SU;BYMONTH=11
TZNAME:PST
TZOFFSETFROM:-0700
TZOFFSETTO:-0800
END:STANDARD
BEGIN:DAYLIGHT
DTSTART:20250309T020000
RRULE:FREQ=YEARLY;BYDAY=2SU;BYMONTH=3
TZNAME:PDT
TZOFFSETFROM:-0800
TZOFFSETTO:-0700
END:DAYLIGHT
END:VTIMEZONE
BEGIN:VEVENT
DESCRIPTION:\nEvent link: https://thehivery.spaces.nexudus.com/en/events/vi
 ew/1126462362/information-session--the-hivery-fall-2019-incubator---jumpst
 art-programs\n
DTEND;TZID=America/Los_Angeles:20190826T104500
DTSTAMP:20260421T232346Z
DTSTART;TZID=America/Los_Angeles:20190826T093000
LOCATION:The Hivery
SEQUENCE:0
SUMMARY:Information Session: The Hivery Fall 2019 Incubator + Jumpstart Pro
 grams
UID:11f77cc8-2dbf-4acb-b30b-87a8eda7ec9f
END:VEVENT
END:VCALENDAR
